BEGIN:VCALENDAR
VERSION:2.0
PRODID:-//Churchdown Community Association - ECPv6.15.20//NONSGML v1.0//EN
CALSCALE:GREGORIAN
METHOD:PUBLISH
X-WR-CALNAME:Churchdown Community Association
X-ORIGINAL-URL:https://churchdowncca.co.uk
X-WR-CALDESC:Events for Churchdown Community Association
REFRESH-INTERVAL;VALUE=DURATION:PT1H
X-Robots-Tag:noindex
X-PUBLISHED-TTL:PT1H
BEGIN:VTIMEZONE
TZID:Europe/London
BEGIN:DAYLIGHT
TZOFFSETFROM:+0000
TZOFFSETTO:+0100
TZNAME:BST
DTSTART:20250330T010000
END:DAYLIGHT
BEGIN:STANDARD
TZOFFSETFROM:+0100
TZOFFSETTO:+0000
TZNAME:GMT
DTSTART:20251026T010000
END:STANDARD
BEGIN:DAYLIGHT
TZOFFSETFROM:+0000
TZOFFSETTO:+0100
TZNAME:BST
DTSTART:20260329T010000
END:DAYLIGHT
BEGIN:STANDARD
TZOFFSETFROM:+0100
TZOFFSETTO:+0000
TZNAME:GMT
DTSTART:20261025T010000
END:STANDARD
BEGIN:DAYLIGHT
TZOFFSETFROM:+0000
TZOFFSETTO:+0100
TZNAME:BST
DTSTART:20270328T010000
END:DAYLIGHT
BEGIN:STANDARD
TZOFFSETFROM:+0100
TZOFFSETTO:+0000
TZNAME:GMT
DTSTART:20271031T010000
END:STANDARD
END:VTIMEZONE
BEGIN:VEVENT
DTSTART;TZID=Europe/London:20260717T100000
DTEND;TZID=Europe/London:20260717T130000
DTSTAMP:20260422T133845
CREATED:20260113T134726Z
LAST-MODIFIED:20260113T135727Z
UID:10000979-1784282400-1784293200@churchdowncca.co.uk
SUMMARY:Nanna's Nest Softplay
DESCRIPTION:Nanna’s nest is joining us for a great themed soft play. Located in our Games room through The Brookfield Coffee shop\, bring along your little one’s and join in with a morning of fun\, while they play you can enjoy a lovely drink and why not treat yourself to a slice of our DELIOUS cake too! \nThe doors are open from 10am until 1pm and ENTRY IS FREE. \nSuitable for 5 years and under\, adult supervision required at all times.
URL:https://churchdowncca.co.uk/event/nannas-nest-softplay-2/2026-07-17/
LOCATION:Churchdown Community Centre\, Parton Road\, Churchdown\, Gloucester\, Gloucestershire\, GL3 2JH\, United Kingdom
ATTACH;FMTTYPE=image/png:https://churchdowncca.co.uk/wp-content/uploads/2025/06/Nannas-nest-soft-play.png
END:VEVENT
END:VCALENDAR