BEGIN:VCALENDAR
VERSION:2.0
PRODID:-//Churchdown Community Association - ECPv6.15.20//NONSGML v1.0//EN
CALSCALE:GREGORIAN
METHOD:PUBLISH
X-WR-CALNAME:Churchdown Community Association
X-ORIGINAL-URL:https://churchdowncca.co.uk
X-WR-CALDESC:Events for Churchdown Community Association
REFRESH-INTERVAL;VALUE=DURATION:PT1H
X-Robots-Tag:noindex
X-PUBLISHED-TTL:PT1H
BEGIN:VTIMEZONE
TZID:Europe/London
BEGIN:DAYLIGHT
TZOFFSETFROM:+0000
TZOFFSETTO:+0100
TZNAME:BST
DTSTART:20250330T010000
END:DAYLIGHT
BEGIN:STANDARD
TZOFFSETFROM:+0100
TZOFFSETTO:+0000
TZNAME:GMT
DTSTART:20251026T010000
END:STANDARD
BEGIN:DAYLIGHT
TZOFFSETFROM:+0000
TZOFFSETTO:+0100
TZNAME:BST
DTSTART:20260329T010000
END:DAYLIGHT
BEGIN:STANDARD
TZOFFSETFROM:+0100
TZOFFSETTO:+0000
TZNAME:GMT
DTSTART:20261025T010000
END:STANDARD
BEGIN:DAYLIGHT
TZOFFSETFROM:+0000
TZOFFSETTO:+0100
TZNAME:BST
DTSTART:20270328T010000
END:DAYLIGHT
BEGIN:STANDARD
TZOFFSETFROM:+0100
TZOFFSETTO:+0000
TZNAME:GMT
DTSTART:20271031T010000
END:STANDARD
BEGIN:DAYLIGHT
TZOFFSETFROM:+0000
TZOFFSETTO:+0100
TZNAME:BST
DTSTART:20280326T010000
END:DAYLIGHT
BEGIN:STANDARD
TZOFFSETFROM:+0100
TZOFFSETTO:+0000
TZNAME:GMT
DTSTART:20281029T010000
END:STANDARD
END:VTIMEZONE
BEGIN:VEVENT
DTSTART;TZID=Europe/London:20260424T100000
DTEND;TZID=Europe/London:20260424T130000
DTSTAMP:20260422T123145
CREATED:20260113T134726Z
LAST-MODIFIED:20260113T135727Z
UID:10000967-1777024800-1777035600@churchdowncca.co.uk
SUMMARY:Nanna's Nest Softplay
DESCRIPTION:Nanna’s nest is joining us for a great themed soft play. Located in our Games room through The Brookfield Coffee shop\, bring along your little one’s and join in with a morning of fun\, while they play you can enjoy a lovely drink and why not treat yourself to a slice of our DELIOUS cake too! \nThe doors are open from 10am until 1pm and ENTRY IS FREE. \nSuitable for 5 years and under\, adult supervision required at all times.
URL:https://churchdowncca.co.uk/event/nannas-nest-softplay-2/2026-04-24/
LOCATION:Churchdown Community Centre\, Parton Road\, Churchdown\, Gloucester\, Gloucestershire\, GL3 2JH\, United Kingdom
ATTACH;FMTTYPE=image/png:https://churchdowncca.co.uk/wp-content/uploads/2025/06/Nannas-nest-soft-play.png
END:VEVENT
BEGIN:VEVENT
DTSTART;TZID=Europe/London:20260425T190000
DTEND;TZID=Europe/London:20260425T230000
DTSTAMP:20260422T123145
CREATED:20260422T101620Z
LAST-MODIFIED:20260422T101620Z
UID:10001128-1777143600-1777158000@churchdowncca.co.uk
SUMMARY:Russ Matthews- Live Music
DESCRIPTION:The Brookfield Bar have a wonderful evening of live music and singing with Russ Matthews. Doors open from 7pm and entry is free\, music will start from 8pm. \nCome and sing and dance the night away and let Russ entertain you!
URL:https://churchdowncca.co.uk/event/russ-matthews-live-music/
LOCATION:Churchdown Community Centre\, Parton Road\, Churchdown\, Gloucester\, Gloucestershire\, GL3 2JH\, United Kingdom
ATTACH;FMTTYPE=image/jpeg:https://churchdowncca.co.uk/wp-content/uploads/2026/04/RUSS-MATTHEWS-APRIL-2026.jpg
END:VEVENT
BEGIN:VEVENT
DTSTART;TZID=Europe/London:20260430T190000
DTEND;TZID=Europe/London:20260430T220000
DTSTAMP:20260422T123145
CREATED:20260209T194344Z
LAST-MODIFIED:20260209T194344Z
UID:10001126-1777575600-1777586400@churchdowncca.co.uk
SUMMARY:Rock & Roll Bingo with Rhys!
DESCRIPTION:EXCITING NEWS! \nJoin us for Rock N Roll Bingo at The Brookfield Bar\, Churchdown Community Centre!\n Thursday 30th April doors open 7PM\, eyes down for 8PM.\n Music\, fun\, and bingo with a twist!\nFood served between 7pm-9pm.\n\n\n Don’t miss out – bring your friends and make it a night to remember!\n The Brookfield Bar\, Churchdown Community Centre
URL:https://churchdowncca.co.uk/event/rock-roll-bingo-with-rhys-3/
LOCATION:Churchdown Community Centre\, Parton Road\, Churchdown\, Gloucester\, Gloucestershire\, GL3 2JH\, United Kingdom
ATTACH;FMTTYPE=image/jpeg:https://churchdowncca.co.uk/wp-content/uploads/2026/02/r-n-r-30-04-2026-socials-.jpg
END:VEVENT
BEGIN:VEVENT
DTSTART;TZID=Europe/London:20260501T100000
DTEND;TZID=Europe/London:20260501T130000
DTSTAMP:20260422T123145
CREATED:20260113T134726Z
LAST-MODIFIED:20260113T135727Z
UID:10000968-1777629600-1777640400@churchdowncca.co.uk
SUMMARY:Nanna's Nest Softplay
DESCRIPTION:Nanna’s nest is joining us for a great themed soft play. Located in our Games room through The Brookfield Coffee shop\, bring along your little one’s and join in with a morning of fun\, while they play you can enjoy a lovely drink and why not treat yourself to a slice of our DELIOUS cake too! \nThe doors are open from 10am until 1pm and ENTRY IS FREE. \nSuitable for 5 years and under\, adult supervision required at all times.
URL:https://churchdowncca.co.uk/event/nannas-nest-softplay-2/2026-05-01/
LOCATION:Churchdown Community Centre\, Parton Road\, Churchdown\, Gloucester\, Gloucestershire\, GL3 2JH\, United Kingdom
ATTACH;FMTTYPE=image/png:https://churchdowncca.co.uk/wp-content/uploads/2025/06/Nannas-nest-soft-play.png
END:VEVENT
BEGIN:VEVENT
DTSTART;TZID=Europe/London:20260503T100000
DTEND;TZID=Europe/London:20260503T163000
DTSTAMP:20260422T123145
CREATED:20260422T102233Z
LAST-MODIFIED:20260422T102233Z
UID:10001130-1777802400-1777825800@churchdowncca.co.uk
SUMMARY:IPMS Model Event
DESCRIPTION:On Sunday 3rd May IPMS are hosting their annual model show here at Churchdown Community Centre. \nLots of stands and displays on the day\, please see attached poster for further information. \nEntry starts at  £4.00 per person\, running from 10:00 to 4:30pm
URL:https://churchdowncca.co.uk/event/ipms-model-event/
LOCATION:Churchdown Community Centre\, Parton Road\, Churchdown\, Gloucester\, Gloucestershire\, GL3 2JH\, United Kingdom
ATTACH;FMTTYPE=image/jpeg:https://churchdowncca.co.uk/wp-content/uploads/2026/04/ipms.jpg
END:VEVENT
BEGIN:VEVENT
DTSTART;TZID=Europe/London:20260508T100000
DTEND;TZID=Europe/London:20260508T130000
DTSTAMP:20260422T123145
CREATED:20260113T134726Z
LAST-MODIFIED:20260113T135727Z
UID:10000969-1778234400-1778245200@churchdowncca.co.uk
SUMMARY:Nanna's Nest Softplay
DESCRIPTION:Nanna’s nest is joining us for a great themed soft play. Located in our Games room through The Brookfield Coffee shop\, bring along your little one’s and join in with a morning of fun\, while they play you can enjoy a lovely drink and why not treat yourself to a slice of our DELIOUS cake too! \nThe doors are open from 10am until 1pm and ENTRY IS FREE. \nSuitable for 5 years and under\, adult supervision required at all times.
URL:https://churchdowncca.co.uk/event/nannas-nest-softplay-2/2026-05-08/
LOCATION:Churchdown Community Centre\, Parton Road\, Churchdown\, Gloucester\, Gloucestershire\, GL3 2JH\, United Kingdom
ATTACH;FMTTYPE=image/png:https://churchdowncca.co.uk/wp-content/uploads/2025/06/Nannas-nest-soft-play.png
END:VEVENT
BEGIN:VEVENT
DTSTART;TZID=Europe/London:20260508T190000
DTEND;TZID=Europe/London:20260508T223000
DTSTAMP:20260422T123145
CREATED:20251006T160235Z
LAST-MODIFIED:20251006T160815Z
UID:10001059-1778266800-1778279400@churchdowncca.co.uk
SUMMARY:Quiz Night
DESCRIPTION:Our monthly Quiz Night is held on the 2nd Friday of the month\, in The Brookfield Bar. Doors open from 7pm\, with the quiz starting around 7:45pm. \n  \nSee you there!
URL:https://churchdowncca.co.uk/event/quiz-night/2026-05-08/
LOCATION:Churchdown Community Centre\, Parton Road\, Churchdown\, Gloucester\, Gloucestershire\, GL3 2JH\, United Kingdom
ATTACH;FMTTYPE=image/png:https://churchdowncca.co.uk/wp-content/uploads/2025/10/STATIC-Dark-Navy-and-Neon-Quiz-Night-Flyer.png
END:VEVENT
BEGIN:VEVENT
DTSTART;TZID=Europe/London:20260515T100000
DTEND;TZID=Europe/London:20260515T130000
DTSTAMP:20260422T123145
CREATED:20260113T134726Z
LAST-MODIFIED:20260113T135727Z
UID:10000970-1778839200-1778850000@churchdowncca.co.uk
SUMMARY:Nanna's Nest Softplay
DESCRIPTION:Nanna’s nest is joining us for a great themed soft play. Located in our Games room through The Brookfield Coffee shop\, bring along your little one’s and join in with a morning of fun\, while they play you can enjoy a lovely drink and why not treat yourself to a slice of our DELIOUS cake too! \nThe doors are open from 10am until 1pm and ENTRY IS FREE. \nSuitable for 5 years and under\, adult supervision required at all times.
URL:https://churchdowncca.co.uk/event/nannas-nest-softplay-2/2026-05-15/
LOCATION:Churchdown Community Centre\, Parton Road\, Churchdown\, Gloucester\, Gloucestershire\, GL3 2JH\, United Kingdom
ATTACH;FMTTYPE=image/png:https://churchdowncca.co.uk/wp-content/uploads/2025/06/Nannas-nest-soft-play.png
END:VEVENT
BEGIN:VEVENT
DTSTART;TZID=Europe/London:20260515T170000
DTEND;TZID=Europe/London:20260517T230000
DTSTAMP:20260422T123145
CREATED:20260422T102549Z
LAST-MODIFIED:20260422T102549Z
UID:10001131-1778864400-1779058800@churchdowncca.co.uk
SUMMARY:Closed for private event.
DESCRIPTION:Our centre\, coffee shop and bar are closed as follows due to a private event taking place between 15th-17th May 2026 \n  \nCentre: Closed from 5pm Friday 15th May to 11pm on Sunday 17th May. \nCoffee shop: closed to public on Saturday 16th May. \nBar: Closed to public Friday 15th May to Sunday 17th May. (Please note there will be no Bingo on Sunday of this weekend)
URL:https://churchdowncca.co.uk/event/closed-for-private-event/
LOCATION:Churchdown Community Centre\, Parton Road\, Churchdown\, Gloucester\, Gloucestershire\, GL3 2JH\, United Kingdom
END:VEVENT
BEGIN:VEVENT
DTSTART;TZID=Europe/London:20260522T100000
DTEND;TZID=Europe/London:20260522T130000
DTSTAMP:20260422T123145
CREATED:20260113T134726Z
LAST-MODIFIED:20260113T135727Z
UID:10000971-1779444000-1779454800@churchdowncca.co.uk
SUMMARY:Nanna's Nest Softplay
DESCRIPTION:Nanna’s nest is joining us for a great themed soft play. Located in our Games room through The Brookfield Coffee shop\, bring along your little one’s and join in with a morning of fun\, while they play you can enjoy a lovely drink and why not treat yourself to a slice of our DELIOUS cake too! \nThe doors are open from 10am until 1pm and ENTRY IS FREE. \nSuitable for 5 years and under\, adult supervision required at all times.
URL:https://churchdowncca.co.uk/event/nannas-nest-softplay-2/2026-05-22/
LOCATION:Churchdown Community Centre\, Parton Road\, Churchdown\, Gloucester\, Gloucestershire\, GL3 2JH\, United Kingdom
ATTACH;FMTTYPE=image/png:https://churchdowncca.co.uk/wp-content/uploads/2025/06/Nannas-nest-soft-play.png
END:VEVENT
BEGIN:VEVENT
DTSTART;TZID=Europe/London:20260523T190000
DTEND;TZID=Europe/London:20260523T230000
DTSTAMP:20260422T123145
CREATED:20260422T101840Z
LAST-MODIFIED:20260422T101840Z
UID:10001129-1779562800-1779577200@churchdowncca.co.uk
SUMMARY:Mike Brown-Live Music
DESCRIPTION:On Saturday 23rd May we are excited to be joined by Mike Brown\, he promises to provide an evening of singing\, dancing and all round FUN! \nDoors open at 7pm with the entertainment starting from 8pm\, entry is free so come on down.
URL:https://churchdowncca.co.uk/event/mike-brown-live-music/
LOCATION:Churchdown Community Centre\, Parton Road\, Churchdown\, Gloucester\, Gloucestershire\, GL3 2JH\, United Kingdom
END:VEVENT
BEGIN:VEVENT
DTSTART;TZID=Europe/London:20260529T100000
DTEND;TZID=Europe/London:20260529T130000
DTSTAMP:20260422T123145
CREATED:20260113T134726Z
LAST-MODIFIED:20260113T135727Z
UID:10000972-1780048800-1780059600@churchdowncca.co.uk
SUMMARY:Nanna's Nest Softplay
DESCRIPTION:Nanna’s nest is joining us for a great themed soft play. Located in our Games room through The Brookfield Coffee shop\, bring along your little one’s and join in with a morning of fun\, while they play you can enjoy a lovely drink and why not treat yourself to a slice of our DELIOUS cake too! \nThe doors are open from 10am until 1pm and ENTRY IS FREE. \nSuitable for 5 years and under\, adult supervision required at all times.
URL:https://churchdowncca.co.uk/event/nannas-nest-softplay-2/2026-05-29/
LOCATION:Churchdown Community Centre\, Parton Road\, Churchdown\, Gloucester\, Gloucestershire\, GL3 2JH\, United Kingdom
ATTACH;FMTTYPE=image/png:https://churchdowncca.co.uk/wp-content/uploads/2025/06/Nannas-nest-soft-play.png
END:VEVENT
BEGIN:VEVENT
DTSTART;TZID=Europe/London:20260605T100000
DTEND;TZID=Europe/London:20260605T130000
DTSTAMP:20260422T123145
CREATED:20260113T134726Z
LAST-MODIFIED:20260113T135727Z
UID:10000973-1780653600-1780664400@churchdowncca.co.uk
SUMMARY:Nanna's Nest Softplay
DESCRIPTION:Nanna’s nest is joining us for a great themed soft play. Located in our Games room through The Brookfield Coffee shop\, bring along your little one’s and join in with a morning of fun\, while they play you can enjoy a lovely drink and why not treat yourself to a slice of our DELIOUS cake too! \nThe doors are open from 10am until 1pm and ENTRY IS FREE. \nSuitable for 5 years and under\, adult supervision required at all times.
URL:https://churchdowncca.co.uk/event/nannas-nest-softplay-2/2026-06-05/
LOCATION:Churchdown Community Centre\, Parton Road\, Churchdown\, Gloucester\, Gloucestershire\, GL3 2JH\, United Kingdom
ATTACH;FMTTYPE=image/png:https://churchdowncca.co.uk/wp-content/uploads/2025/06/Nannas-nest-soft-play.png
END:VEVENT
BEGIN:VEVENT
DTSTART;TZID=Europe/London:20260606T193000
DTEND;TZID=Europe/London:20260606T223000
DTSTAMP:20260422T123145
CREATED:20260422T105010Z
LAST-MODIFIED:20260422T105010Z
UID:10001132-1780774200-1780785000@churchdowncca.co.uk
SUMMARY:Word Up 80's
DESCRIPTION:Time travel back to the 80s with Word Up 80s!\n\n\n\n\n\n\n\n\nGet ready to crank up the nostalgia!\nWord Up 80s brings together a band of top vocalists and musicians from around the UK to take you on a wild ride through the decade of big hair\, bold neon\, and totally epic anthems!\n\n\n\n\n\nWhat to Expect: \n★ Your favourite mega hits from the 1980s! \n★ Amazing vocals & musicianship! \n★ Iconic tracks that will have you singing\, dancing\, and reminiscing. \nDon’t miss this electrifying celebration of 80s music—perfect for fans of all ages. \nDust off your leg warmers\, grab your friends\, and let’s party like it’s 1985! \n\n\n\nExpect anthems from the likes of Madonna\, Tears for Fears\, Starship\, Toto\, Whitney Houston\, Tina Turner\, Fleetwood Mac\, Gloria Estefan\, The Pointer Sisters\, Wham!\, Rick Astley\, Lionel Richie\, Phil Collins\, Level 42\, The Human League\, Go West\, Peter Gabriel and many more!\n\n\n\n\n\n\nFor tickets please visit: Word Up 80s – Set Reminder
URL:https://churchdowncca.co.uk/event/word-up-80s/
LOCATION:Churchdown Community Centre\, Parton Road\, Churchdown\, Gloucester\, Gloucestershire\, GL3 2JH\, United Kingdom
ATTACH;FMTTYPE=application/pdf:https://churchdowncca.co.uk/wp-content/uploads/2026/04/S25C-926042200350.pdf
END:VEVENT
BEGIN:VEVENT
DTSTART;TZID=Europe/London:20260607T093000
DTEND;TZID=Europe/London:20260607T153000
DTSTAMP:20260422T123145
CREATED:20260422T111626Z
LAST-MODIFIED:20260422T111626Z
UID:10001133-1780824600-1780846200@churchdowncca.co.uk
SUMMARY:Southern Border Terrier Club
DESCRIPTION:Southern Border Terrier Club show\n\n\n\nSUNDAY 7th JUNE 2026​ \n\n\nCHAMPIONSHIP SHOW \n\n\nChurchdown Churchdown Community Centre\, Parton Rd\, Churchdown\, Gloucester GL3 2JH \n\n\nShow Opens: 9.30am Judging: 10.00am \n\n\nJudge : Mr Mark Ord (Marnadee) \n\n\nENTRIES NOW OPEN \n\n\n\nPRIZE FOR \nEVERY CLASS WINNER \n\n\nFULL DETAILS\, SCHEDULE & ON LINE ENTRIES\n\n\n\n\n\n\n\n\n\n\n\n\n\nPostal Entries Close: Wednesday\, 13th May 2026 (POSTMARK) \nOnline Entries Close: Wednesday\, 20th May 2026 (MIDNIGHT) \n\n\n\n\n\n\n\n\n\n\n\n\n\n\n\nFor any further information contact Show Secretary Sarah Dandy\n\n\n\n\n\n\nEmail: s.dandy1@btinternet.com
URL:https://churchdowncca.co.uk/event/southern-border-terrier-club/
LOCATION:Churchdown Community Centre\, Parton Road\, Churchdown\, Gloucester\, Gloucestershire\, GL3 2JH\, United Kingdom
ATTACH;FMTTYPE=image/jpeg:https://churchdowncca.co.uk/wp-content/uploads/2026/04/border-7th-June.jpg
END:VEVENT
BEGIN:VEVENT
DTSTART;TZID=Europe/London:20260612T100000
DTEND;TZID=Europe/London:20260612T130000
DTSTAMP:20260422T123145
CREATED:20260113T134726Z
LAST-MODIFIED:20260113T135727Z
UID:10000974-1781258400-1781269200@churchdowncca.co.uk
SUMMARY:Nanna's Nest Softplay
DESCRIPTION:Nanna’s nest is joining us for a great themed soft play. Located in our Games room through The Brookfield Coffee shop\, bring along your little one’s and join in with a morning of fun\, while they play you can enjoy a lovely drink and why not treat yourself to a slice of our DELIOUS cake too! \nThe doors are open from 10am until 1pm and ENTRY IS FREE. \nSuitable for 5 years and under\, adult supervision required at all times.
URL:https://churchdowncca.co.uk/event/nannas-nest-softplay-2/2026-06-12/
LOCATION:Churchdown Community Centre\, Parton Road\, Churchdown\, Gloucester\, Gloucestershire\, GL3 2JH\, United Kingdom
ATTACH;FMTTYPE=image/png:https://churchdowncca.co.uk/wp-content/uploads/2025/06/Nannas-nest-soft-play.png
END:VEVENT
BEGIN:VEVENT
DTSTART;TZID=Europe/London:20260612T190000
DTEND;TZID=Europe/London:20260612T223000
DTSTAMP:20260422T123145
CREATED:20251006T160235Z
LAST-MODIFIED:20251006T160815Z
UID:10001060-1781290800-1781303400@churchdowncca.co.uk
SUMMARY:Quiz Night
DESCRIPTION:Our monthly Quiz Night is held on the 2nd Friday of the month\, in The Brookfield Bar. Doors open from 7pm\, with the quiz starting around 7:45pm. \n  \nSee you there!
URL:https://churchdowncca.co.uk/event/quiz-night/2026-06-12/
LOCATION:Churchdown Community Centre\, Parton Road\, Churchdown\, Gloucester\, Gloucestershire\, GL3 2JH\, United Kingdom
ATTACH;FMTTYPE=image/png:https://churchdowncca.co.uk/wp-content/uploads/2025/10/STATIC-Dark-Navy-and-Neon-Quiz-Night-Flyer.png
END:VEVENT
BEGIN:VEVENT
DTSTART;TZID=Europe/London:20260619T100000
DTEND;TZID=Europe/London:20260619T130000
DTSTAMP:20260422T123145
CREATED:20260113T134726Z
LAST-MODIFIED:20260113T135727Z
UID:10000975-1781863200-1781874000@churchdowncca.co.uk
SUMMARY:Nanna's Nest Softplay
DESCRIPTION:Nanna’s nest is joining us for a great themed soft play. Located in our Games room through The Brookfield Coffee shop\, bring along your little one’s and join in with a morning of fun\, while they play you can enjoy a lovely drink and why not treat yourself to a slice of our DELIOUS cake too! \nThe doors are open from 10am until 1pm and ENTRY IS FREE. \nSuitable for 5 years and under\, adult supervision required at all times.
URL:https://churchdowncca.co.uk/event/nannas-nest-softplay-2/2026-06-19/
LOCATION:Churchdown Community Centre\, Parton Road\, Churchdown\, Gloucester\, Gloucestershire\, GL3 2JH\, United Kingdom
ATTACH;FMTTYPE=image/png:https://churchdowncca.co.uk/wp-content/uploads/2025/06/Nannas-nest-soft-play.png
END:VEVENT
BEGIN:VEVENT
DTSTART;TZID=Europe/London:20260620T140000
DTEND;TZID=Europe/London:20260620T160000
DTSTAMP:20260422T123145
CREATED:20260422T112842Z
LAST-MODIFIED:20260422T112907Z
UID:10001134-1781964000-1781971200@churchdowncca.co.uk
SUMMARY:Little Shoppers Baby & Children Market
DESCRIPTION:Hey Mums\, Dads & Grandparents! \n Little Shoppers Baby & Children’s Market is BACK!\n\n\n Where: Churchdown Community Centre\, Gloucester\, GL3 2JH\n When: Saturday 20th June | 2pm – 4pm\n Entry: £2 per adult | Kids FREE!\n\n\n Shop Smart & Save Big!\nFrom clothes and toys to prams\, cots\, maternity wear\, and more—our nearly-new market is bursting with bargains for your little ones. Stock up on everything you need without breaking the bank!\n\n\n Don’t miss out—come discover your next hidden gem\n\nHome | Little Shoppers
URL:https://churchdowncca.co.uk/event/little-shoppers-baby-children-market/
LOCATION:Churchdown Community Centre\, Parton Road\, Churchdown\, Gloucester\, Gloucestershire\, GL3 2JH\, United Kingdom
ATTACH;FMTTYPE=image/jpeg:https://churchdowncca.co.uk/wp-content/uploads/2026/04/little-shoppers.jpg
END:VEVENT
BEGIN:VEVENT
DTSTART;TZID=Europe/London:20260626T100000
DTEND;TZID=Europe/London:20260626T130000
DTSTAMP:20260422T123145
CREATED:20260113T134726Z
LAST-MODIFIED:20260113T135727Z
UID:10000976-1782468000-1782478800@churchdowncca.co.uk
SUMMARY:Nanna's Nest Softplay
DESCRIPTION:Nanna’s nest is joining us for a great themed soft play. Located in our Games room through The Brookfield Coffee shop\, bring along your little one’s and join in with a morning of fun\, while they play you can enjoy a lovely drink and why not treat yourself to a slice of our DELIOUS cake too! \nThe doors are open from 10am until 1pm and ENTRY IS FREE. \nSuitable for 5 years and under\, adult supervision required at all times.
URL:https://churchdowncca.co.uk/event/nannas-nest-softplay-2/2026-06-26/
LOCATION:Churchdown Community Centre\, Parton Road\, Churchdown\, Gloucester\, Gloucestershire\, GL3 2JH\, United Kingdom
ATTACH;FMTTYPE=image/png:https://churchdowncca.co.uk/wp-content/uploads/2025/06/Nannas-nest-soft-play.png
END:VEVENT
BEGIN:VEVENT
DTSTART;TZID=Europe/London:20260703T100000
DTEND;TZID=Europe/London:20260703T130000
DTSTAMP:20260422T123145
CREATED:20260113T134726Z
LAST-MODIFIED:20260113T135727Z
UID:10000977-1783072800-1783083600@churchdowncca.co.uk
SUMMARY:Nanna's Nest Softplay
DESCRIPTION:Nanna’s nest is joining us for a great themed soft play. Located in our Games room through The Brookfield Coffee shop\, bring along your little one’s and join in with a morning of fun\, while they play you can enjoy a lovely drink and why not treat yourself to a slice of our DELIOUS cake too! \nThe doors are open from 10am until 1pm and ENTRY IS FREE. \nSuitable for 5 years and under\, adult supervision required at all times.
URL:https://churchdowncca.co.uk/event/nannas-nest-softplay-2/2026-07-03/
LOCATION:Churchdown Community Centre\, Parton Road\, Churchdown\, Gloucester\, Gloucestershire\, GL3 2JH\, United Kingdom
ATTACH;FMTTYPE=image/png:https://churchdowncca.co.uk/wp-content/uploads/2025/06/Nannas-nest-soft-play.png
END:VEVENT
BEGIN:VEVENT
DTSTART;TZID=Europe/London:20260710T100000
DTEND;TZID=Europe/London:20260710T130000
DTSTAMP:20260422T123145
CREATED:20260113T134726Z
LAST-MODIFIED:20260113T135727Z
UID:10000978-1783677600-1783688400@churchdowncca.co.uk
SUMMARY:Nanna's Nest Softplay
DESCRIPTION:Nanna’s nest is joining us for a great themed soft play. Located in our Games room through The Brookfield Coffee shop\, bring along your little one’s and join in with a morning of fun\, while they play you can enjoy a lovely drink and why not treat yourself to a slice of our DELIOUS cake too! \nThe doors are open from 10am until 1pm and ENTRY IS FREE. \nSuitable for 5 years and under\, adult supervision required at all times.
URL:https://churchdowncca.co.uk/event/nannas-nest-softplay-2/2026-07-10/
LOCATION:Churchdown Community Centre\, Parton Road\, Churchdown\, Gloucester\, Gloucestershire\, GL3 2JH\, United Kingdom
ATTACH;FMTTYPE=image/png:https://churchdowncca.co.uk/wp-content/uploads/2025/06/Nannas-nest-soft-play.png
END:VEVENT
BEGIN:VEVENT
DTSTART;TZID=Europe/London:20260710T190000
DTEND;TZID=Europe/London:20260710T223000
DTSTAMP:20260422T123145
CREATED:20251006T160235Z
LAST-MODIFIED:20251006T160815Z
UID:10001061-1783710000-1783722600@churchdowncca.co.uk
SUMMARY:Quiz Night
DESCRIPTION:Our monthly Quiz Night is held on the 2nd Friday of the month\, in The Brookfield Bar. Doors open from 7pm\, with the quiz starting around 7:45pm. \n  \nSee you there!
URL:https://churchdowncca.co.uk/event/quiz-night/2026-07-10/
LOCATION:Churchdown Community Centre\, Parton Road\, Churchdown\, Gloucester\, Gloucestershire\, GL3 2JH\, United Kingdom
ATTACH;FMTTYPE=image/png:https://churchdowncca.co.uk/wp-content/uploads/2025/10/STATIC-Dark-Navy-and-Neon-Quiz-Night-Flyer.png
END:VEVENT
BEGIN:VEVENT
DTSTART;TZID=Europe/London:20260717T100000
DTEND;TZID=Europe/London:20260717T130000
DTSTAMP:20260422T123145
CREATED:20260113T134726Z
LAST-MODIFIED:20260113T135727Z
UID:10000979-1784282400-1784293200@churchdowncca.co.uk
SUMMARY:Nanna's Nest Softplay
DESCRIPTION:Nanna’s nest is joining us for a great themed soft play. Located in our Games room through The Brookfield Coffee shop\, bring along your little one’s and join in with a morning of fun\, while they play you can enjoy a lovely drink and why not treat yourself to a slice of our DELIOUS cake too! \nThe doors are open from 10am until 1pm and ENTRY IS FREE. \nSuitable for 5 years and under\, adult supervision required at all times.
URL:https://churchdowncca.co.uk/event/nannas-nest-softplay-2/2026-07-17/
LOCATION:Churchdown Community Centre\, Parton Road\, Churchdown\, Gloucester\, Gloucestershire\, GL3 2JH\, United Kingdom
ATTACH;FMTTYPE=image/png:https://churchdowncca.co.uk/wp-content/uploads/2025/06/Nannas-nest-soft-play.png
END:VEVENT
BEGIN:VEVENT
DTSTART;TZID=Europe/London:20260814T190000
DTEND;TZID=Europe/London:20260814T223000
DTSTAMP:20260422T123145
CREATED:20251006T160235Z
LAST-MODIFIED:20251006T160815Z
UID:10001062-1786734000-1786746600@churchdowncca.co.uk
SUMMARY:Quiz Night
DESCRIPTION:Our monthly Quiz Night is held on the 2nd Friday of the month\, in The Brookfield Bar. Doors open from 7pm\, with the quiz starting around 7:45pm. \n  \nSee you there!
URL:https://churchdowncca.co.uk/event/quiz-night/2026-08-14/
LOCATION:Churchdown Community Centre\, Parton Road\, Churchdown\, Gloucester\, Gloucestershire\, GL3 2JH\, United Kingdom
ATTACH;FMTTYPE=image/png:https://churchdowncca.co.uk/wp-content/uploads/2025/10/STATIC-Dark-Navy-and-Neon-Quiz-Night-Flyer.png
END:VEVENT
BEGIN:VEVENT
DTSTART;TZID=Europe/London:20260911T190000
DTEND;TZID=Europe/London:20260911T223000
DTSTAMP:20260422T123145
CREATED:20251006T160235Z
LAST-MODIFIED:20251006T160815Z
UID:10001063-1789153200-1789165800@churchdowncca.co.uk
SUMMARY:Quiz Night
DESCRIPTION:Our monthly Quiz Night is held on the 2nd Friday of the month\, in The Brookfield Bar. Doors open from 7pm\, with the quiz starting around 7:45pm. \n  \nSee you there!
URL:https://churchdowncca.co.uk/event/quiz-night/2026-09-11/
LOCATION:Churchdown Community Centre\, Parton Road\, Churchdown\, Gloucester\, Gloucestershire\, GL3 2JH\, United Kingdom
ATTACH;FMTTYPE=image/png:https://churchdowncca.co.uk/wp-content/uploads/2025/10/STATIC-Dark-Navy-and-Neon-Quiz-Night-Flyer.png
END:VEVENT
BEGIN:VEVENT
DTSTART;TZID=Europe/London:20261009T190000
DTEND;TZID=Europe/London:20261009T223000
DTSTAMP:20260422T123145
CREATED:20251006T160235Z
LAST-MODIFIED:20251006T160815Z
UID:10001064-1791572400-1791585000@churchdowncca.co.uk
SUMMARY:Quiz Night
DESCRIPTION:Our monthly Quiz Night is held on the 2nd Friday of the month\, in The Brookfield Bar. Doors open from 7pm\, with the quiz starting around 7:45pm. \n  \nSee you there!
URL:https://churchdowncca.co.uk/event/quiz-night/2026-10-09/
LOCATION:Churchdown Community Centre\, Parton Road\, Churchdown\, Gloucester\, Gloucestershire\, GL3 2JH\, United Kingdom
ATTACH;FMTTYPE=image/png:https://churchdowncca.co.uk/wp-content/uploads/2025/10/STATIC-Dark-Navy-and-Neon-Quiz-Night-Flyer.png
END:VEVENT
BEGIN:VEVENT
DTSTART;TZID=Europe/London:20261113T190000
DTEND;TZID=Europe/London:20261113T223000
DTSTAMP:20260422T123145
CREATED:20251006T160235Z
LAST-MODIFIED:20251006T160815Z
UID:10001065-1794596400-1794609000@churchdowncca.co.uk
SUMMARY:Quiz Night
DESCRIPTION:Our monthly Quiz Night is held on the 2nd Friday of the month\, in The Brookfield Bar. Doors open from 7pm\, with the quiz starting around 7:45pm. \n  \nSee you there!
URL:https://churchdowncca.co.uk/event/quiz-night/2026-11-13/
LOCATION:Churchdown Community Centre\, Parton Road\, Churchdown\, Gloucester\, Gloucestershire\, GL3 2JH\, United Kingdom
ATTACH;FMTTYPE=image/png:https://churchdowncca.co.uk/wp-content/uploads/2025/10/STATIC-Dark-Navy-and-Neon-Quiz-Night-Flyer.png
END:VEVENT
BEGIN:VEVENT
DTSTART;TZID=Europe/London:20261211T190000
DTEND;TZID=Europe/London:20261211T223000
DTSTAMP:20260422T123145
CREATED:20251006T160235Z
LAST-MODIFIED:20251006T160815Z
UID:10001066-1797015600-1797028200@churchdowncca.co.uk
SUMMARY:Quiz Night
DESCRIPTION:Our monthly Quiz Night is held on the 2nd Friday of the month\, in The Brookfield Bar. Doors open from 7pm\, with the quiz starting around 7:45pm. \n  \nSee you there!
URL:https://churchdowncca.co.uk/event/quiz-night/2026-12-11/
LOCATION:Churchdown Community Centre\, Parton Road\, Churchdown\, Gloucester\, Gloucestershire\, GL3 2JH\, United Kingdom
ATTACH;FMTTYPE=image/png:https://churchdowncca.co.uk/wp-content/uploads/2025/10/STATIC-Dark-Navy-and-Neon-Quiz-Night-Flyer.png
END:VEVENT
BEGIN:VEVENT
DTSTART;TZID=Europe/London:20270108T190000
DTEND;TZID=Europe/London:20270108T223000
DTSTAMP:20260422T123145
CREATED:20251006T160235Z
LAST-MODIFIED:20251006T160815Z
UID:10001067-1799434800-1799447400@churchdowncca.co.uk
SUMMARY:Quiz Night
DESCRIPTION:Our monthly Quiz Night is held on the 2nd Friday of the month\, in The Brookfield Bar. Doors open from 7pm\, with the quiz starting around 7:45pm. \n  \nSee you there!
URL:https://churchdowncca.co.uk/event/quiz-night/2027-01-08/
LOCATION:Churchdown Community Centre\, Parton Road\, Churchdown\, Gloucester\, Gloucestershire\, GL3 2JH\, United Kingdom
ATTACH;FMTTYPE=image/png:https://churchdowncca.co.uk/wp-content/uploads/2025/10/STATIC-Dark-Navy-and-Neon-Quiz-Night-Flyer.png
END:VEVENT
END:VCALENDAR