BEGIN:VCALENDAR
VERSION:2.0
PRODID:-//Churchdown Community Association - ECPv6.15.20//NONSGML v1.0//EN
CALSCALE:GREGORIAN
METHOD:PUBLISH
X-WR-CALNAME:Churchdown Community Association
X-ORIGINAL-URL:https://churchdowncca.co.uk
X-WR-CALDESC:Events for Churchdown Community Association
REFRESH-INTERVAL;VALUE=DURATION:PT1H
X-Robots-Tag:noindex
X-PUBLISHED-TTL:PT1H
BEGIN:VTIMEZONE
TZID:Europe/London
BEGIN:DAYLIGHT
TZOFFSETFROM:+0000
TZOFFSETTO:+0100
TZNAME:BST
DTSTART:20250330T010000
END:DAYLIGHT
BEGIN:STANDARD
TZOFFSETFROM:+0100
TZOFFSETTO:+0000
TZNAME:GMT
DTSTART:20251026T010000
END:STANDARD
BEGIN:DAYLIGHT
TZOFFSETFROM:+0000
TZOFFSETTO:+0100
TZNAME:BST
DTSTART:20260329T010000
END:DAYLIGHT
BEGIN:STANDARD
TZOFFSETFROM:+0100
TZOFFSETTO:+0000
TZNAME:GMT
DTSTART:20261025T010000
END:STANDARD
BEGIN:DAYLIGHT
TZOFFSETFROM:+0000
TZOFFSETTO:+0100
TZNAME:BST
DTSTART:20270328T010000
END:DAYLIGHT
BEGIN:STANDARD
TZOFFSETFROM:+0100
TZOFFSETTO:+0000
TZNAME:GMT
DTSTART:20271031T010000
END:STANDARD
END:VTIMEZONE
BEGIN:VEVENT
DTSTART;TZID=Europe/London:20260607T093000
DTEND;TZID=Europe/London:20260607T153000
DTSTAMP:20260425T131131
CREATED:20260422T111626Z
LAST-MODIFIED:20260422T111626Z
UID:10001133-1780824600-1780846200@churchdowncca.co.uk
SUMMARY:Southern Border Terrier Club
DESCRIPTION:Southern Border Terrier Club show\n\n\n\nSUNDAY 7th JUNE 2026​ \n\n\nCHAMPIONSHIP SHOW \n\n\nChurchdown Churchdown Community Centre\, Parton Rd\, Churchdown\, Gloucester GL3 2JH \n\n\nShow Opens: 9.30am Judging: 10.00am \n\n\nJudge : Mr Mark Ord (Marnadee) \n\n\nENTRIES NOW OPEN \n\n\n\nPRIZE FOR \nEVERY CLASS WINNER \n\n\nFULL DETAILS\, SCHEDULE & ON LINE ENTRIES\n\n\n\n\n\n\n\n\n\n\n\n\n\nPostal Entries Close: Wednesday\, 13th May 2026 (POSTMARK) \nOnline Entries Close: Wednesday\, 20th May 2026 (MIDNIGHT) \n\n\n\n\n\n\n\n\n\n\n\n\n\n\n\nFor any further information contact Show Secretary Sarah Dandy\n\n\n\n\n\n\nEmail: s.dandy1@btinternet.com
URL:https://churchdowncca.co.uk/event/southern-border-terrier-club/
LOCATION:Churchdown Community Centre\, Parton Road\, Churchdown\, Gloucester\, Gloucestershire\, GL3 2JH\, United Kingdom
ATTACH;FMTTYPE=image/jpeg:https://churchdowncca.co.uk/wp-content/uploads/2026/04/border-7th-June.jpg
END:VEVENT
END:VCALENDAR