BEGIN:VCALENDAR
VERSION:2.0
PRODID:-//Churchdown Community Association - ECPv6.15.20//NONSGML v1.0//EN
CALSCALE:GREGORIAN
METHOD:PUBLISH
X-WR-CALNAME:Churchdown Community Association
X-ORIGINAL-URL:https://churchdowncca.co.uk
X-WR-CALDESC:Events for Churchdown Community Association
REFRESH-INTERVAL;VALUE=DURATION:PT1H
X-Robots-Tag:noindex
X-PUBLISHED-TTL:PT1H
BEGIN:VTIMEZONE
TZID:Europe/London
BEGIN:DAYLIGHT
TZOFFSETFROM:+0000
TZOFFSETTO:+0100
TZNAME:BST
DTSTART:20250330T010000
END:DAYLIGHT
BEGIN:STANDARD
TZOFFSETFROM:+0100
TZOFFSETTO:+0000
TZNAME:GMT
DTSTART:20251026T010000
END:STANDARD
BEGIN:DAYLIGHT
TZOFFSETFROM:+0000
TZOFFSETTO:+0100
TZNAME:BST
DTSTART:20260329T010000
END:DAYLIGHT
BEGIN:STANDARD
TZOFFSETFROM:+0100
TZOFFSETTO:+0000
TZNAME:GMT
DTSTART:20261025T010000
END:STANDARD
BEGIN:DAYLIGHT
TZOFFSETFROM:+0000
TZOFFSETTO:+0100
TZNAME:BST
DTSTART:20270328T010000
END:DAYLIGHT
BEGIN:STANDARD
TZOFFSETFROM:+0100
TZOFFSETTO:+0000
TZNAME:GMT
DTSTART:20271031T010000
END:STANDARD
END:VTIMEZONE
BEGIN:VEVENT
DTSTART;TZID=Europe/London:20260515T170000
DTEND;TZID=Europe/London:20260517T230000
DTSTAMP:20260425T114722
CREATED:20260422T102549Z
LAST-MODIFIED:20260422T102549Z
UID:10001131-1778864400-1779058800@churchdowncca.co.uk
SUMMARY:Closed for private event.
DESCRIPTION:Our centre\, coffee shop and bar are closed as follows due to a private event taking place between 15th-17th May 2026 \n  \nCentre: Closed from 5pm Friday 15th May to 11pm on Sunday 17th May. \nCoffee shop: closed to public on Saturday 16th May. \nBar: Closed to public Friday 15th May to Sunday 17th May. (Please note there will be no Bingo on Sunday of this weekend)
URL:https://churchdowncca.co.uk/event/closed-for-private-event/
LOCATION:Churchdown Community Centre\, Parton Road\, Churchdown\, Gloucester\, Gloucestershire\, GL3 2JH\, United Kingdom
END:VEVENT
END:VCALENDAR