BEGIN:VCALENDAR
VERSION:2.0
PRODID:-//Churchdown Community Association - ECPv6.15.20//NONSGML v1.0//EN
CALSCALE:GREGORIAN
METHOD:PUBLISH
X-WR-CALNAME:Churchdown Community Association
X-ORIGINAL-URL:https://churchdowncca.co.uk
X-WR-CALDESC:Events for Churchdown Community Association
REFRESH-INTERVAL;VALUE=DURATION:PT1H
X-Robots-Tag:noindex
X-PUBLISHED-TTL:PT1H
BEGIN:VTIMEZONE
TZID:Europe/London
BEGIN:DAYLIGHT
TZOFFSETFROM:+0000
TZOFFSETTO:+0100
TZNAME:BST
DTSTART:20250330T010000
END:DAYLIGHT
BEGIN:STANDARD
TZOFFSETFROM:+0100
TZOFFSETTO:+0000
TZNAME:GMT
DTSTART:20251026T010000
END:STANDARD
BEGIN:DAYLIGHT
TZOFFSETFROM:+0000
TZOFFSETTO:+0100
TZNAME:BST
DTSTART:20260329T010000
END:DAYLIGHT
BEGIN:STANDARD
TZOFFSETFROM:+0100
TZOFFSETTO:+0000
TZNAME:GMT
DTSTART:20261025T010000
END:STANDARD
BEGIN:DAYLIGHT
TZOFFSETFROM:+0000
TZOFFSETTO:+0100
TZNAME:BST
DTSTART:20270328T010000
END:DAYLIGHT
BEGIN:STANDARD
TZOFFSETFROM:+0100
TZOFFSETTO:+0000
TZNAME:GMT
DTSTART:20271031T010000
END:STANDARD
END:VTIMEZONE
BEGIN:VEVENT
DTSTART;TZID=Europe/London:20260425T190000
DTEND;TZID=Europe/London:20260425T230000
DTSTAMP:20260425T114819
CREATED:20260422T101620Z
LAST-MODIFIED:20260422T101620Z
UID:10001128-1777143600-1777158000@churchdowncca.co.uk
SUMMARY:Russ Matthews- Live Music
DESCRIPTION:The Brookfield Bar have a wonderful evening of live music and singing with Russ Matthews. Doors open from 7pm and entry is free\, music will start from 8pm. \nCome and sing and dance the night away and let Russ entertain you!
URL:https://churchdowncca.co.uk/event/russ-matthews-live-music/
LOCATION:Churchdown Community Centre\, Parton Road\, Churchdown\, Gloucester\, Gloucestershire\, GL3 2JH\, United Kingdom
ATTACH;FMTTYPE=image/jpeg:https://churchdowncca.co.uk/wp-content/uploads/2026/04/RUSS-MATTHEWS-APRIL-2026.jpg
END:VEVENT
END:VCALENDAR